BEGIN:VCALENDAR
VERSION:2.0
PRODID:-//L&#039;arbre cheval - ECPv4.6.26.1//NONSGML v1.0//EN
CALSCALE:GREGORIAN
METHOD:PUBLISH
X-WR-CALNAME:L&#039;arbre cheval
X-ORIGINAL-URL:https://larbrecheval.be
X-WR-CALDESC:Évènements pour L&#039;arbre cheval
BEGIN:VEVENT
DTSTART;VALUE=DATE:20260524
DTEND;VALUE=DATE:20260525
DTSTAMP:20260424T105605
CREATED:20240206T213257Z
LAST-MODIFIED:20260415T203932Z
UID:6716-1779580800-1779667199@larbrecheval.be
SUMMARY:Fête des simples à Jandrain: Nous y exposerons notre microferme
DESCRIPTION:Fête des simples à Jandrain: Nous y exposerons notre microferme ainsi que notre production locale \nVenez nous rendre visite et déguster le miel de notre production et les produits de la ruche. \nFête des simples=>  https://fetedessimples.be/ \n  \n
URL:https://larbrecheval.be/event/fete-des-simples-a-jandrain-nous-y-exposerons-notre-microferme-2/
LOCATION:Jandrain\, rue de genville\, jandrain\, 1350\, Belgique
ATTACH;FMTTYPE=image/jpeg:https://larbrecheval.be/wp-content/uploads/2024/02/fete-des-simples-jandrain-8m-sur-3.jpg
END:VEVENT
END:VCALENDAR